BEGIN:VCALENDAR
PRODID:-//hacksw/handcal//NONSGML v1.0//EN
VERSION:2.0
METHOD:PUBLISH
BEGIN:VEVENT
DTSTART:20091113T020000Z
DTEND:20091113T043000Z
LOCATION:Papillon Restaurant, Fremont, CA
UID:423420091113T020000ZVeterans Benefits
DTSTAMP:20260421T091433Z
DESCRIPTION:
SUMMARY:Veterans Benefits - Estate Planning Council of Southern Alameda County 
PRIORITY:3
BEGIN:VALARM
TRIGGER:PT18H
ACTION:DISPLAY
DESCRIPTION:Reminder
END:VALARM
END:VEVENT
END:VCALENDAR