BEGIN:VCALENDAR
PRODID:-//hacksw/handcal//NONSGML v1.0//EN
VERSION:2.0
METHOD:PUBLISH
BEGIN:VEVENT
DTSTART:20100115T020000Z
DTEND:20100115T043000Z
LOCATION:Papillon Restaurant, Fremont, CA
UID:423520100115T020000ZCharitable Lead Trusts & Charitable Gift Planning
DTSTAMP:20260421T091740Z
DESCRIPTION:
SUMMARY:Charitable Lead Trusts & Charitable Gift Planning - Estate Planning Council of Southern Alameda County 
PRIORITY:3
BEGIN:VALARM
TRIGGER:PT18H
ACTION:DISPLAY
DESCRIPTION:Reminder
END:VALARM
END:VEVENT
END:VCALENDAR