BEGIN:VCALENDAR
PRODID:-//hacksw/handcal//NONSGML v1.0//EN
VERSION:2.0
METHOD:PUBLISH
BEGIN:VEVENT
DTSTART:20121109T020000Z
DTEND:20121109T050000Z
LOCATION:Papillon
UID:669020121109T020000ZLegal Mental Capacity: A Psychiatrist's Perspective
DTSTAMP:20260421T131825Z
DESCRIPTION:\nAbout the Topic:   \n \nThe goal of the talk is to help listeners with the following:                      \n \n      1. Better understanding of the way in which decision-making capacity\n           may be affected by deficits in the four domains of mental function\n           mentioned both in the Due Process in Competency Determinations Act\n           (DPCDA) and in the Capacity Declaration--Conservatorship form.\n      2.  Greater familiarity with the ways in which various psychiatric\n           disorders may affect decision-making capacity.\n      3.  Increased ability to identify individuals who may have impaired\n           decision-making capacity.\n \n\nAbout Our Speaker: Patrick Fitzsimmons, MD, specializes in assessing\n capacity, susceptibility to undue influence, and the need for conservatorship\n in adults of all ages who may have a mental disorder, especially older adults\n suspected of having dementia. Dr. Fitzsimmons has 25 years experience as a\n psychiatrist, is board certified in geriatric psychiatry, and is an author and\n lecturer on mental capacity.\n  \n
SUMMARY:Legal Mental Capacity: A Psychiatrist's Perspective - Estate Planning Council of Southern Alameda County 
PRIORITY:3
BEGIN:VALARM
TRIGGER:PT18H
ACTION:DISPLAY
DESCRIPTION:Reminder
END:VALARM
END:VEVENT
END:VCALENDAR