BEGIN:VCALENDAR
PRODID:-//hacksw/handcal//NONSGML v1.0//EN
VERSION:2.0
METHOD:PUBLISH
BEGIN:VEVENT
DTSTART:20130510T010000Z
DTEND:20130510T033000Z
LOCATION:Papillon
UID:669320130510T010000ZSpecial Needs Trusts 
DTSTAMP:20260421T091742Z
DESCRIPTION:
SUMMARY:Special Needs Trusts  - Estate Planning Council of Southern Alameda County 
PRIORITY:3
BEGIN:VALARM
TRIGGER:PT18H
ACTION:DISPLAY
DESCRIPTION:Reminder
END:VALARM
END:VEVENT
END:VCALENDAR